BEGIN:VCALENDAR
VERSION:2.0
PRODID:-//Chicopee St Patrick&#039;s Day Parade Committee - ECPv5.4.0//NONSGML v1.0//EN
CALSCALE:GREGORIAN
METHOD:PUBLISH
X-WR-CALNAME:Chicopee St Patrick&#039;s Day Parade Committee
X-ORIGINAL-URL:https://chicopeespc.com
X-WR-CALDESC:Events for Chicopee St Patrick&#039;s Day Parade Committee
BEGIN:VTIMEZONE
TZID:America/New_York
BEGIN:DAYLIGHT
TZOFFSETFROM:-0500
TZOFFSETTO:-0400
TZNAME:EDT
DTSTART:20230312T070000
END:DAYLIGHT
BEGIN:STANDARD
TZOFFSETFROM:-0400
TZOFFSETTO:-0500
TZNAME:EST
DTSTART:20231105T060000
END:STANDARD
END:VTIMEZONE
BEGIN:VEVENT
DTSTART;VALUE=DATE:20230329
DTEND;VALUE=DATE:20230330
DTSTAMP:20260425T231355
CREATED:20230330T125859Z
LAST-MODIFIED:20230330T125859Z
UID:5812-1680048000-1680134399@chicopeespc.com
SUMMARY:MMM Winner:  Shelly Dansereau
DESCRIPTION:
URL:https://chicopeespc.com/event/mmm-winner-shelly-dansereau/
CATEGORIES:March Money Madness Winners
END:VEVENT
END:VCALENDAR