BEGIN:VCALENDAR
VERSION:2.0
PRODID:-//Chicopee St Patrick&#039;s Day Parade Committee - ECPv5.4.0//NONSGML v1.0//EN
CALSCALE:GREGORIAN
METHOD:PUBLISH
X-WR-CALNAME:Chicopee St Patrick&#039;s Day Parade Committee
X-ORIGINAL-URL:https://chicopeespc.com
X-WR-CALDESC:Events for Chicopee St Patrick&#039;s Day Parade Committee
BEGIN:VTIMEZONE
TZID:America/New_York
BEGIN:DAYLIGHT
TZOFFSETFROM:-0500
TZOFFSETTO:-0400
TZNAME:EDT
DTSTART:20250309T070000
END:DAYLIGHT
BEGIN:STANDARD
TZOFFSETFROM:-0400
TZOFFSETTO:-0500
TZNAME:EST
DTSTART:20251102T060000
END:STANDARD
END:VTIMEZONE
BEGIN:VEVENT
DTSTART;TZID=America/New_York:20250126T103000
DTEND;TZID=America/New_York:20250126T120000
DTSTAMP:20260425T174807
CREATED:20250122T175944Z
LAST-MODIFIED:20250122T175944Z
UID:5913-1737887400-1737892800@chicopeespc.com
SUMMARY:Parade Committee Meeting
DESCRIPTION:
URL:https://chicopeespc.com/event/parade-committee-meeting/
LOCATION:Chicopee Portuguese American Club\, 149 Exchange Street\, Chicopee\, MA\, 01013\, United States
CATEGORIES:Meetings
END:VEVENT
END:VCALENDAR